BEGIN:VCALENDAR
VERSION:2.0
PRODID:-// - ECPv6.15.1.1//NONSGML v1.0//EN
CALSCALE:GREGORIAN
METHOD:PUBLISH
X-ORIGINAL-URL:https://gascogneladiesclub.com
X-WR-CALDESC:Events for 
REFRESH-INTERVAL;VALUE=DURATION:PT1H
X-Robots-Tag:noindex
X-PUBLISHED-TTL:PT1H
BEGIN:VTIMEZONE
TZID:Europe/Paris
BEGIN:DAYLIGHT
TZOFFSETFROM:+0100
TZOFFSETTO:+0200
TZNAME:CEST
DTSTART:20260329T010000
END:DAYLIGHT
BEGIN:STANDARD
TZOFFSETFROM:+0200
TZOFFSETTO:+0100
TZNAME:CET
DTSTART:20261025T010000
END:STANDARD
END:VTIMEZONE
BEGIN:VEVENT
DTSTART;TZID=Europe/Paris:20260820T140000
DTEND;TZID=Europe/Paris:20260820T170000
DTSTAMP:20260421T170035
CREATED:20260421T141821Z
LAST-MODIFIED:20260421T141821Z
UID:3722-1787234400-1787245200@gascogneladiesclub.com
SUMMARY:Afternoon tea at Zoe's Country Kitchen
DESCRIPTION:Very popular last year\, so we booked another Afternoon Tea for you with Zoe’s homemade cakes and cookies. \nZoe’s Country Kitchen’s staff will be welcoming us in her cosy\, rustic barn for this event on 20 August. Well\, we’ll be sitting outside of course\, having a lovely view.
URL:https://gascogneladiesclub.com/event/afternoon-tea-at-zoes-country-kitchen/
LOCATION:Zoe’s Country Kitchen\, Peyrusse-Grande\, 32320\, France
ATTACH;FMTTYPE=image/jpeg:https://gascogneladiesclub.com/wp-content/uploads/2026/04/Zoe3.jpg
END:VEVENT
END:VCALENDAR